BEGIN:VCALENDAR
VERSION:2.0
PRODID:-// - ECPv6.15.20//NONSGML v1.0//EN
CALSCALE:GREGORIAN
METHOD:PUBLISH
X-ORIGINAL-URL:https://www.tlfa.com.au
X-WR-CALDESC:Events for 
REFRESH-INTERVAL;VALUE=DURATION:PT1H
X-Robots-Tag:noindex
X-PUBLISHED-TTL:PT1H
BEGIN:VTIMEZONE
TZID:Australia/Sydney
BEGIN:STANDARD
TZOFFSETFROM:+1100
TZOFFSETTO:+1000
TZNAME:AEST
DTSTART:20230401T160000
END:STANDARD
BEGIN:DAYLIGHT
TZOFFSETFROM:+1000
TZOFFSETTO:+1100
TZNAME:AEDT
DTSTART:20230930T160000
END:DAYLIGHT
BEGIN:STANDARD
TZOFFSETFROM:+1100
TZOFFSETTO:+1000
TZNAME:AEST
DTSTART:20240406T160000
END:STANDARD
BEGIN:DAYLIGHT
TZOFFSETFROM:+1000
TZOFFSETTO:+1100
TZNAME:AEDT
DTSTART:20241005T160000
END:DAYLIGHT
BEGIN:STANDARD
TZOFFSETFROM:+1100
TZOFFSETTO:+1000
TZNAME:AEST
DTSTART:20250405T160000
END:STANDARD
BEGIN:DAYLIGHT
TZOFFSETFROM:+1000
TZOFFSETTO:+1100
TZNAME:AEDT
DTSTART:20251004T160000
END:DAYLIGHT
END:VTIMEZONE
BEGIN:VEVENT
DTSTART;TZID=Australia/Sydney:20241208T083000
DTEND;TZID=Australia/Sydney:20241208T100000
DTSTAMP:20260422T223015
CREATED:20231208T050454Z
LAST-MODIFIED:20240119T040053Z
UID:1771-1733646600-1733652000@www.tlfa.com.au
SUMMARY:Coaching and General Shooting
DESCRIPTION:Coaching and general shooting day. Coaching is available from 9am to 10.00am. Before coming to the club for the first time please contact us to ensure that a coach is available to assist you. Please arrive no later than 8.45am so we can get you set up before practice begins. \nThe Practice Range will be open from 10am for general shooting. \nNote: TLFA supply all equipment required – We advise that you DO NOT purchase any archery equipment until you have at least done a couple of sessions with us.
URL:https://www.tlfa.com.au/event/coaching-and-general-shooting-17/
LOCATION:Pom’s Camp\, Brothers Road\, Jilliby\, N.S.W.\, 2259\, Australia
CATEGORIES:Coaching/General
ATTACH;FMTTYPE=image/jpeg:https://www.tlfa.com.au/wp-content/uploads/2023/12/coaching3.jpg
END:VEVENT
BEGIN:VEVENT
DTSTART;TZID=Australia/Sydney:20241201T083000
DTEND;TZID=Australia/Sydney:20241201T100000
DTSTAMP:20260422T223015
CREATED:20231208T050313Z
LAST-MODIFIED:20240119T040113Z
UID:1769-1733041800-1733047200@www.tlfa.com.au
SUMMARY:Coaching and General Shooting
DESCRIPTION:Coaching and general shooting day. Coaching is available from 9am to 10.00am. Before coming to the club for the first time please contact us to ensure that a coach is available to assist you. Please arrive no later than 8.45am so we can get you set up before practice begins. \nThe Practice Range will be open from 10am for general shooting. \nNote: TLFA supply all equipment required – We advise that you DO NOT purchase any archery equipment until you have at least done a couple of sessions with us.
URL:https://www.tlfa.com.au/event/coaching-and-general-shooting-16/
LOCATION:Pom’s Camp\, Brothers Road\, Jilliby\, N.S.W.\, 2259\, Australia
CATEGORIES:Coaching/General
ATTACH;FMTTYPE=image/jpeg:https://www.tlfa.com.au/wp-content/uploads/2023/12/coaching1.jpg
END:VEVENT
BEGIN:VEVENT
DTSTART;VALUE=DATE:20241124
DTEND;VALUE=DATE:20241125
DTSTAMP:20260422T223015
CREATED:20231208T045953Z
LAST-MODIFIED:20231208T045953Z
UID:1767-1732406400-1732492799@www.tlfa.com.au
SUMMARY:Fun Shoot and Awards Day
DESCRIPTION:Fun Shoot and Awards Day. \nMuster for the fun shoot using various types of targets will be at 9.00am. Please be at the club by 8.30am to assist with setting up the targets.The shoot will take about 2 hours and will be followed by the award presentations for the 2024 competitions. This will include medals for each division and personal best badges. \nMedals will be awarded in all age and equipment divisions for the Field and Unmarked Safari competitions [maximum three (3) places each]. If there is only one competitor in any division\, provided they have recorded three (3) scores\, a medal will be awarded. \nPersonal Best (PB) badges will be awarded even if only one competition has been shot. Personal best scores are recorded each year and provided the current year’s score exceeds the previous PBs a badge will be awarded. \nA Most Improved badge will be awarded for the greatest improvement\, over all divisions\, in each type of competition from the first score recorded in 2024 and consistency of shooting. To be eligible for this award the required number of competitions must be completed.
URL:https://www.tlfa.com.au/event/fun-shoot-and-awards-day/
LOCATION:Pom’s Camp\, Brothers Road\, Jilliby\, N.S.W.\, 2259\, Australia
CATEGORIES:Fun Shoot
ATTACH;FMTTYPE=image/jpeg:https://www.tlfa.com.au/wp-content/uploads/2023/12/407577472_383275720709479_7136970611323547051_n.jpg
END:VEVENT
BEGIN:VEVENT
DTSTART;VALUE=DATE:20241117
DTEND;VALUE=DATE:20241118
DTSTAMP:20260422T223015
CREATED:20231208T045535Z
LAST-MODIFIED:20240620T125535Z
UID:1765-1731801600-1731887999@www.tlfa.com.au
SUMMARY:Cub Bushcraft - Field Closed
DESCRIPTION:Field Closed for Scouting Activities.
URL:https://www.tlfa.com.au/event/cub-bushcraft-field-closed/
LOCATION:Pom’s Camp\, Brothers Road\, Jilliby\, N.S.W.\, 2259\, Australia
CATEGORIES:Scouting Activities
ATTACH;FMTTYPE=image/png:https://www.tlfa.com.au/wp-content/uploads/2023/12/The_Scout_Association_Logo-700x493-1.png
END:VEVENT
BEGIN:VEVENT
DTSTART;VALUE=DATE:20241116
DTEND;VALUE=DATE:20241117
DTSTAMP:20260422T223015
CREATED:20231208T045342Z
LAST-MODIFIED:20231208T050952Z
UID:1763-1731715200-1731801599@www.tlfa.com.au
SUMMARY:Joey Fun Day - Field Closed
DESCRIPTION:Field Closed for Scouting Activities.
URL:https://www.tlfa.com.au/event/joey-fun-day-field-closed/
LOCATION:Pom’s Camp\, Brothers Road\, Jilliby\, N.S.W.\, 2259\, Australia
CATEGORIES:Scouting Activities
ATTACH;FMTTYPE=image/png:https://www.tlfa.com.au/wp-content/uploads/2023/12/The_Scout_Association_Logo-700x493-1.png
END:VEVENT
BEGIN:VEVENT
DTSTART;TZID=Australia/Sydney:20241110T080000
DTEND;TZID=Australia/Sydney:20241110T140000
DTSTAMP:20260422T223015
CREATED:20231208T044049Z
LAST-MODIFIED:20240618T014216Z
UID:1754-1731225600-1731247200@www.tlfa.com.au
SUMMARY:Field Competition Round 5
DESCRIPTION:This is round 5 of 5 rounds for the year. Visitors Welcome. \nEQUIPMENT DIVISIONS:\nCompound sighted\, Compound unsighted\, Recurve sighted\, Recurve unsighted\, Traditional i.e. longbow. \nGates open at 7.30am.\nRegistration 8am.\nMuster 8.45am.\nPractise 8am – 8.30am.\nCompetition starts at 9am \nFormat: 12 targets\, 3 arrows per target X 2 will be run with a lunch break between. \nPractice range available for sighting in before competition start. \nPlease bring your own food and water. \nCost is $10 for members and $15 for visitors.
URL:https://www.tlfa.com.au/event/field-competition-round-5-2/
LOCATION:Pom’s Camp\, Brothers Road\, Jilliby\, N.S.W.\, 2259\, Australia
CATEGORIES:Field Competition
ATTACH;FMTTYPE=image/png:https://www.tlfa.com.au/wp-content/uploads/2023/06/fieldr1.png
END:VEVENT
BEGIN:VEVENT
DTSTART;TZID=Australia/Sydney:20241103T083000
DTEND;TZID=Australia/Sydney:20241103T100000
DTSTAMP:20260422T223015
CREATED:20231208T044849Z
LAST-MODIFIED:20240119T040142Z
UID:1759-1730622600-1730628000@www.tlfa.com.au
SUMMARY:Coaching and General Shooting
DESCRIPTION:Coaching and general shooting day. Coaching is available from 9am to 10.00am. Before coming to the club for the first time please contact us to ensure that a coach is available to assist you. Please arrive no later than 8.45am so we can get you set up before practice begins. \nThe Practice Range will be open from 10am for general shooting. \nNote: TLFA supply all equipment required – We advise that you DO NOT purchase any archery equipment until you have at least done a couple of sessions with us.
URL:https://www.tlfa.com.au/event/coaching-and-general-shooting-14/
LOCATION:Pom’s Camp\, Brothers Road\, Jilliby\, N.S.W.\, 2259\, Australia
CATEGORIES:Coaching/General
ATTACH;FMTTYPE=image/jpeg:https://www.tlfa.com.au/wp-content/uploads/2023/12/joeyfunday.jpg
END:VEVENT
BEGIN:VEVENT
DTSTART;TZID=Australia/Sydney:20241027T090000
DTEND;TZID=Australia/Sydney:20241027T110000
DTSTAMP:20260422T223015
CREATED:20231208T044557Z
LAST-MODIFIED:20231208T044557Z
UID:1756-1730019600-1730026800@www.tlfa.com.au
SUMMARY:AGM/General Meeting
DESCRIPTION:TLFA Annual General Meeting and General Meeting. Club Members are requested to attend. \nMore details to be added as the date gets closer.
URL:https://www.tlfa.com.au/event/agm-general-meeting/
LOCATION:Pom’s Camp\, Brothers Road\, Jilliby\, N.S.W.\, 2259\, Australia
CATEGORIES:AGM
ATTACH;FMTTYPE=image/jpeg:https://www.tlfa.com.au/wp-content/uploads/2023/12/AGM.jpg
END:VEVENT
BEGIN:VEVENT
DTSTART;TZID=Australia/Sydney:20241013T080000
DTEND;TZID=Australia/Sydney:20241013T140000
DTSTAMP:20260422T223015
CREATED:20231206T094631Z
LAST-MODIFIED:20240618T014152Z
UID:1738-1728806400-1728828000@www.tlfa.com.au
SUMMARY:Field Competition Round 4
DESCRIPTION:This is round 4 of 5 rounds for the year. Visitors Welcome. \nEQUIPMENT DIVISIONS:\nCompound sighted\, Compound unsighted\, Recurve sighted\, Recurve unsighted\, Traditional i.e. longbow. \nGates open at 7.30am.\nRegistration 8am.\nMuster 8.45am.\nPractise 8am – 8.30am.\nCompetition starts at 9am \nFormat: 12 targets\, 3 arrows per target X 2 will be run with a lunch break between. \nPractice range available for sighting in before competition start. \nPlease bring your own food and water. \nCost is $10 for members and $15 for visitors.
URL:https://www.tlfa.com.au/event/field-competition-round-4-2/
LOCATION:Pom’s Camp\, Brothers Road\, Jilliby\, N.S.W.\, 2259\, Australia
CATEGORIES:Field Competition
ATTACH;FMTTYPE=image/png:https://www.tlfa.com.au/wp-content/uploads/2023/04/tc1-1.png
END:VEVENT
BEGIN:VEVENT
DTSTART;TZID=Australia/Sydney:20241006T083000
DTEND;TZID=Australia/Sydney:20241006T100000
DTSTAMP:20260422T223015
CREATED:20231208T043653Z
LAST-MODIFIED:20240119T040222Z
UID:1752-1728203400-1728208800@www.tlfa.com.au
SUMMARY:Coaching and General Shooting
DESCRIPTION:Coaching and general shooting day. Coaching is available from 9am to 10.00am. Before coming to the club for the first time please contact us to ensure that a coach is available to assist you. Please arrive no later than 8.45am so we can get you set up before practice begins. \nThe Practice Range will be open from 10am for general shooting. \nNote: TLFA supply all equipment required – We advise that you DO NOT purchase any archery equipment until you have at least done a couple of sessions with us.
URL:https://www.tlfa.com.au/event/coaching-and-general-shooting-13/
LOCATION:Pom’s Camp\, Brothers Road\, Jilliby\, N.S.W.\, 2259\, Australia
CATEGORIES:Coaching/General
ATTACH;FMTTYPE=image/png:https://www.tlfa.com.au/wp-content/uploads/2023/04/slider1a.png
END:VEVENT
BEGIN:VEVENT
DTSTART;VALUE=DATE:20240928
DTEND;VALUE=DATE:20240930
DTSTAMP:20260422T223015
CREATED:20231206T095134Z
LAST-MODIFIED:20240806T123329Z
UID:1742-1727481600-1727654399@www.tlfa.com.au
SUMMARY:Scout ing Activity - Field Closed
DESCRIPTION:Field Closed for Scouting activities\,
URL:https://www.tlfa.com.au/event/scout-archery-2/
LOCATION:Pom’s Camp\, Brothers Road\, Jilliby\, N.S.W.\, 2259\, Australia
CATEGORIES:Scouting Activities
ATTACH;FMTTYPE=image/png:https://www.tlfa.com.au/wp-content/uploads/2023/12/The_Scout_Association_Logo-700x493-1.png
END:VEVENT
BEGIN:VEVENT
DTSTART;TZID=Australia/Sydney:20240922T083000
DTEND;TZID=Australia/Sydney:20240922T100000
DTSTAMP:20260422T223015
CREATED:20231206T094856Z
LAST-MODIFIED:20240119T040245Z
UID:1740-1726993800-1726999200@www.tlfa.com.au
SUMMARY:Coaching and General Shooting
DESCRIPTION:Coaching and general shooting day. Coaching is available from 9am to 10.00am. Before coming to the club for the first time please contact us to ensure that a coach is available to assist you. Please arrive no later than 8.45am so we can get you set up before practice begins. \nThe Practice Range will be open from 10am for general shooting. \nNote: TLFA supply all equipment required – We advise that you DO NOT purchase any archery equipment until you have at least done a couple of sessions with us.
URL:https://www.tlfa.com.au/event/coaching-and-general-shooting-12/
LOCATION:Pom’s Camp\, Brothers Road\, Jilliby\, N.S.W.\, 2259\, Australia
CATEGORIES:Coaching/General
ATTACH;FMTTYPE=image/png:https://www.tlfa.com.au/wp-content/uploads/2023/04/prac2.png
END:VEVENT
BEGIN:VEVENT
DTSTART;TZID=Australia/Sydney:20240908T080000
DTEND;TZID=Australia/Sydney:20240908T140000
DTSTAMP:20260422T223015
CREATED:20231206T092653Z
LAST-MODIFIED:20240618T014134Z
UID:1726-1725782400-1725804000@www.tlfa.com.au
SUMMARY:Field Competition Round 3
DESCRIPTION:This is round 3 of 5 rounds for the year. Visitors Welcome. \nEQUIPMENT DIVISIONS:\nCompound sighted\, Compound unsighted\, Recurve sighted\, Recurve unsighted\, Traditional i.e. longbow. \nGates open at 7.30am.\nRegistration 8am.\nMuster 8.45am.\nPractise 8am – 8.30am.\nCompetition starts at 9am \nFormat: 12 targets\, 3 arrows per target X 2 will be run with a lunch break between. \nPractice range available for sighting in before competition start. \nPlease bring your own food and water. \nCost is $10 for members and $15 for visitors.
URL:https://www.tlfa.com.au/event/field-competition-round-3-2/
LOCATION:Pom’s Camp\, Brothers Road\, Jilliby\, N.S.W.\, 2259\, Australia
CATEGORIES:Field Competition
ATTACH;FMTTYPE=image/png:https://www.tlfa.com.au/wp-content/uploads/2023/04/tc1-4.png
END:VEVENT
BEGIN:VEVENT
DTSTART;TZID=Australia/Sydney:20240901T083000
DTEND;TZID=Australia/Sydney:20240901T100000
DTSTAMP:20260422T223015
CREATED:20231206T094428Z
LAST-MODIFIED:20240119T040309Z
UID:1736-1725179400-1725184800@www.tlfa.com.au
SUMMARY:Coaching and General Shooting
DESCRIPTION:Coaching and general shooting day. Coaching is available from 9am to 10.00am. Before coming to the club for the first time please contact us to ensure that a coach is available to assist you. Please arrive no later than 8.45am so we can get you set up before practice begins. \nThe Practice Range will be open from 10am for general shooting. \nNote: TLFA supply all equipment required – We advise that you DO NOT purchase any archery equipment until you have at least done a couple of sessions with us.
URL:https://www.tlfa.com.au/event/coaching-and-general-shooting-11/
LOCATION:Pom’s Camp\, Brothers Road\, Jilliby\, N.S.W.\, 2259\, Australia
CATEGORIES:Coaching/General
ATTACH;FMTTYPE=image/png:https://www.tlfa.com.au/wp-content/uploads/2023/03/practise-range.png
END:VEVENT
BEGIN:VEVENT
DTSTART;TZID=Australia/Sydney:20240823T080000
DTEND;TZID=Australia/Sydney:20240825T170000
DTSTAMP:20260422T223015
CREATED:20240806T101802Z
LAST-MODIFIED:20240806T101941Z
UID:1938-1724400000-1724605200@www.tlfa.com.au
SUMMARY:Scouting Activity - Field Closed
DESCRIPTION:Field Closed for Scout Activities
URL:https://www.tlfa.com.au/event/scouting-activity-field-closed/
LOCATION:Pom’s Camp\, Brothers Road\, Jilliby\, N.S.W.\, 2259\, Australia
CATEGORIES:Scouting Activities
ATTACH;FMTTYPE=image/png:https://www.tlfa.com.au/wp-content/uploads/2023/12/The_Scout_Association_Logo-700x493-1.png
END:VEVENT
BEGIN:VEVENT
DTSTART;TZID=Australia/Sydney:20240811T080000
DTEND;TZID=Australia/Sydney:20240811T140000
DTSTAMP:20260422T223015
CREATED:20231206T092035Z
LAST-MODIFIED:20240618T014116Z
UID:1721-1723363200-1723384800@www.tlfa.com.au
SUMMARY:Field Competition Round 2
DESCRIPTION:This is round 2 of 5 rounds for the year. Visitors Welcome. \nEQUIPMENT DIVISIONS:\nCompound sighted\, Compound unsighted\, Recurve sighted\, Recurve unsighted\, Traditional i.e. longbow. \nGates open at 7.30am.\nRegistration 8am.\nMuster 8.45am.\nPractise 8am – 8.30am.\nCompetition starts at 9am \nFormat: 12 targets\, 3 arrows per target X 2 will be run with a lunch break between. \nPractice range available for sighting in before competition start. \nPlease bring your own food and water. \nCost is $10 for members and $15 for visitors.
URL:https://www.tlfa.com.au/event/field-competition-round-2-2/
LOCATION:Pom’s Camp\, Brothers Road\, Jilliby\, N.S.W.\, 2259\, Australia
CATEGORIES:Field Competition
ATTACH;FMTTYPE=image/png:https://www.tlfa.com.au/wp-content/uploads/2023/04/tc1-3.png
END:VEVENT
BEGIN:VEVENT
DTSTART;TZID=Australia/Sydney:20240804T083000
DTEND;TZID=Australia/Sydney:20240804T100000
DTSTAMP:20260422T223015
CREATED:20231206T092340Z
LAST-MODIFIED:20240119T040359Z
UID:1723-1722760200-1722765600@www.tlfa.com.au
SUMMARY:Coaching and General Shooting
DESCRIPTION:Coaching and general shooting day. Coaching is available from 9am to 10.00am. Before coming to the club for the first time please contact us to ensure that a coach is available to assist you. Please arrive no later than 8.45am so we can get you set up before practice begins. \nThe Practice Range will be open from 10am for general shooting. \nNote: TLFA supply all equipment required – We advise that you DO NOT purchase any archery equipment until you have at least done a couple of sessions with us.
URL:https://www.tlfa.com.au/event/1723/
LOCATION:Pom’s Camp\, Brothers Road\, Jilliby\, N.S.W.\, 2259\, Australia
CATEGORIES:Coaching/General
ATTACH;FMTTYPE=image/jpeg:https://www.tlfa.com.au/wp-content/uploads/2023/12/coaching2.jpg
END:VEVENT
BEGIN:VEVENT
DTSTART;TZID=Australia/Sydney:20240728T083000
DTEND;TZID=Australia/Sydney:20240728T100000
DTSTAMP:20260422T223015
CREATED:20231206T093032Z
LAST-MODIFIED:20240119T040421Z
UID:1728-1722155400-1722160800@www.tlfa.com.au
SUMMARY:Coaching and General Shooting
DESCRIPTION:Coaching and general shooting day. Coaching is available from 9am to 10.00am. Before coming to the club for the first time please contact us to ensure that a coach is available to assist you. Please arrive no later than 8.45am so we can get you set up before practice begins. \nThe Practice Range will be open from 10am for general shooting. \nNote: TLFA supply all equipment required – We advise that you DO NOT purchase any archery equipment until you have at least done a couple of sessions with us.
URL:https://www.tlfa.com.au/event/coaching-and-general-shooting-9/
LOCATION:Pom’s Camp\, Brothers Road\, Jilliby\, N.S.W.\, 2259\, Australia
CATEGORIES:Coaching/General
ATTACH;FMTTYPE=image/jpeg:https://www.tlfa.com.au/wp-content/uploads/2021/07/Photo-12-6-21-12-01-40-pm-scaled.jpg
END:VEVENT
BEGIN:VEVENT
DTSTART;TZID=Australia/Sydney:20240623T083000
DTEND;TZID=Australia/Sydney:20240623T100000
DTSTAMP:20260422T223015
CREATED:20231206T091022Z
LAST-MODIFIED:20240119T035958Z
UID:1717-1719131400-1719136800@www.tlfa.com.au
SUMMARY:Coaching and General shooting
DESCRIPTION:Coaching and general shooting day. Coaching is available from 9am to 10.00am. Before coming to the club for the first time please contact us to ensure that a coach is available to assist you. Please arrive no later than 8.45am so we can get you set up before practice begins. \nThe Practice Range will be open from 10am for general shooting. \nNote: TLFA supply all equipment required – We advise that you DO NOT purchase any archery equipment until you have at least done a couple of sessions with us.
URL:https://www.tlfa.com.au/event/coaching-and-general-shooting-7/
LOCATION:Pom’s Camp\, Brothers Road\, Jilliby\, N.S.W.\, 2259\, Australia
CATEGORIES:Coaching/General
ATTACH;FMTTYPE=image/png:https://www.tlfa.com.au/wp-content/uploads/2023/04/field-comp.png
END:VEVENT
BEGIN:VEVENT
DTSTART;TZID=Australia/Sydney:20240609T090000
DTEND;TZID=Australia/Sydney:20240609T140000
DTSTAMP:20260422T223015
CREATED:20231206T084529Z
LAST-MODIFIED:20231206T084529Z
UID:1700-1717923600-1717941600@www.tlfa.com.au
SUMMARY:Harvest Festival Day 2
DESCRIPTION:Day 2 of the 2024 Harvest Festival. More information to be added soon. \nCome Try Archery\nJoin the Tuggerah Lakes Field Archers as they help you to get hands-on with this instructed archery experience. \nArchery is a fun sport for all levels of fitness. \nMinimum age – 6 years old. \nBookings essential. \nTickets available at secretary@tlfa.com.au \nPlease visit Harvest Festival | Love Central Coast for more information on Harvest Festival.
URL:https://www.tlfa.com.au/event/harvest-festival-day-2-2/
LOCATION:Pom’s Camp\, Brothers Road\, Jilliby\, N.S.W.\, 2259\, Australia
CATEGORIES:Harvest Festival
ATTACH;FMTTYPE=image/png:https://www.tlfa.com.au/wp-content/uploads/2023/04/harvest-festival-widget.png
END:VEVENT
BEGIN:VEVENT
DTSTART;TZID=Australia/Sydney:20240608T090000
DTEND;TZID=Australia/Sydney:20240608T140000
DTSTAMP:20260422T223015
CREATED:20231206T084308Z
LAST-MODIFIED:20231206T084330Z
UID:1697-1717837200-1717855200@www.tlfa.com.au
SUMMARY:Harvest Festival Day 1
DESCRIPTION:Day 1 of the 2024 Harvest Festival. More information to be added soon. \nCome Try Archery\nJoin the Tuggerah Lakes Field Archers as they help you to get hands-on with this instructed archery experience. \nArchery is a fun sport for all levels of fitness. \nMinimum age – 6 years old. \nBookings essential. \nTickets available at secretary@tlfa.com.au \nPlease visit Harvest Festival | Love Central Coast for more information on Harvest Festival.
URL:https://www.tlfa.com.au/event/harvest-festival-day-1-2/
LOCATION:Pom’s Camp\, Brothers Road\, Jilliby\, N.S.W.\, 2259\, Australia
CATEGORIES:Harvest Festival
ATTACH;FMTTYPE=image/png:https://www.tlfa.com.au/wp-content/uploads/2023/04/harvest-festival-widget.png
END:VEVENT
BEGIN:VEVENT
DTSTART;TZID=Australia/Sydney:20240602T080000
DTEND;TZID=Australia/Sydney:20240602T140000
DTSTAMP:20260422T223015
CREATED:20231206T083416Z
LAST-MODIFIED:20231217T064855Z
UID:1692-1717315200-1717336800@www.tlfa.com.au
SUMMARY:Unmarked Safari Round 5
DESCRIPTION:Round 5\, this is our last Unmarked Safari event for 2024. Visitors are welcome to compete in this event. \nUnmarked distance.\n40 target competition – 2 x 20 target rounds.\nRound 1 = 2 arrow shoot per target – Both arrows scored.\nRound 2 = 1 arrow shot per target.\nVarious 2D target faces will be used. \nEQUIPMENT DIVISIONS:\nCompound sighted\, Compound unsighted\, Recurve sighted\, Recurve unsighted\, Traditional i.e. longbow. Novice Category. \nGates open at 7.30am.\nRegistration 8am.\nPractise 8am – 8.30am.\nMuster 8.45am.\nCompetition 9am (Start round 1). \nA short break will be taken between rounds\, please bring your own food and water. \nCost is $10 for members and $15 for visitors.
URL:https://www.tlfa.com.au/event/unmarked-safari-round-5-2/
LOCATION:Pom’s Camp\, Brothers Road\, Jilliby\, N.S.W.\, 2259\, Australia
CATEGORIES:Unmarked Safari
ATTACH;FMTTYPE=image/png:https://www.tlfa.com.au/wp-content/uploads/2023/12/safari-comp1.png
END:VEVENT
BEGIN:VEVENT
DTSTART;TZID=Australia/Sydney:20240526T080000
DTEND;TZID=Australia/Sydney:20240526T110000
DTSTAMP:20260422T223015
CREATED:20231206T090802Z
LAST-MODIFIED:20240519T232226Z
UID:1714-1716710400-1716721200@www.tlfa.com.au
SUMMARY:Working Bee
DESCRIPTION:This working bee is for Harvest Festival preparation and to get the Target Range ready for the Target competition series beginning on June 2nd along with a few other small tasks. \nPlease bring your own food and water and dress appropriately (closed in shoes\, gloves\, long pants etc). \nLet the Secretary know if you are able to attend.
URL:https://www.tlfa.com.au/event/working-bee-3/
LOCATION:Pom’s Camp\, Brothers Road\, Jilliby\, N.S.W.\, 2259\, Australia
CATEGORIES:Working Bee
ATTACH;FMTTYPE=image/jpeg:https://www.tlfa.com.au/wp-content/uploads/2023/12/workingbee2.jpg
END:VEVENT
END:VCALENDAR